BEGIN:VCALENDAR
VERSION:2.0
PRODID:-//Rachel Franklin - ECPv6.15.20//NONSGML v1.0//EN
CALSCALE:GREGORIAN
METHOD:PUBLISH
X-ORIGINAL-URL:https://rachelfranklin.com
X-WR-CALDESC:Events for Rachel Franklin
REFRESH-INTERVAL;VALUE=DURATION:PT1H
X-Robots-Tag:noindex
X-PUBLISHED-TTL:PT1H
BEGIN:VTIMEZONE
TZID:America/New_York
BEGIN:DAYLIGHT
TZOFFSETFROM:-0500
TZOFFSETTO:-0400
TZNAME:EDT
DTSTART:20230312T070000
END:DAYLIGHT
BEGIN:STANDARD
TZOFFSETFROM:-0400
TZOFFSETTO:-0500
TZNAME:EST
DTSTART:20231105T060000
END:STANDARD
BEGIN:DAYLIGHT
TZOFFSETFROM:-0500
TZOFFSETTO:-0400
TZNAME:EDT
DTSTART:20240310T070000
END:DAYLIGHT
BEGIN:STANDARD
TZOFFSETFROM:-0400
TZOFFSETTO:-0500
TZNAME:EST
DTSTART:20241103T060000
END:STANDARD
BEGIN:DAYLIGHT
TZOFFSETFROM:-0500
TZOFFSETTO:-0400
TZNAME:EDT
DTSTART:20250309T070000
END:DAYLIGHT
BEGIN:STANDARD
TZOFFSETFROM:-0400
TZOFFSETTO:-0500
TZNAME:EST
DTSTART:20251102T060000
END:STANDARD
END:VTIMEZONE
BEGIN:VEVENT
DTSTART;TZID=America/New_York:20241222T140000
DTEND;TZID=America/New_York:20241222T153000
DTSTAMP:20260421T235031
CREATED:20241220T212517Z
LAST-MODIFIED:20241220T222619Z
UID:3908-1734876000-1734881400@rachelfranklin.com
SUMMARY:SONOS Trio: A Seasonal Musical Celebration to Benefit the Friends of Chamber Music Reading
DESCRIPTION:https://chambermusicreading.org/sonos-2024/\n			\n				\n				\n				\n				\n				Led by acclaimed pianist Rachel Franklin and featuring the consummate talents of violinist Christian Tremblay and fretless bass player Jonathan Miles Brown\, their programs explore the cross-polination between different musical art forms\, with compelling stories of how these musical cultures intersect. Blurring the edges between timeless chamber works and jazz improvisation\, SONOS have performed widely throughout the mid-Atlantic area\, delighting audiences with their imaginative storytelling\, unique instrumental sounds\, and fiery virtuosity.
URL:https://rachelfranklin.com/event/sonos-trio-a-seasonal-musical-celebration-to-benefit-the-friends-of-chamber-music-reading/
LOCATION:WCR Center for the Arts\, 140 N 5th St\, Reading\, PA\, 19601\, United States
ATTACH;FMTTYPE=image/png:https://rachelfranklin.com/wp-content/uploads/2024/12/SailPoster.png
END:VEVENT
END:VCALENDAR