BEGIN:VCALENDAR
VERSION:2.0
PRODID:-//Rachel Franklin - ECPv6.15.20//NONSGML v1.0//EN
CALSCALE:GREGORIAN
METHOD:PUBLISH
X-WR-CALNAME:Rachel Franklin
X-ORIGINAL-URL:https://rachelfranklin.com
X-WR-CALDESC:Events for Rachel Franklin
REFRESH-INTERVAL;VALUE=DURATION:PT1H
X-Robots-Tag:noindex
X-PUBLISHED-TTL:PT1H
BEGIN:VTIMEZONE
TZID:America/New_York
BEGIN:DAYLIGHT
TZOFFSETFROM:-0500
TZOFFSETTO:-0400
TZNAME:EDT
DTSTART:20240310T070000
END:DAYLIGHT
BEGIN:STANDARD
TZOFFSETFROM:-0400
TZOFFSETTO:-0500
TZNAME:EST
DTSTART:20241103T060000
END:STANDARD
BEGIN:DAYLIGHT
TZOFFSETFROM:-0500
TZOFFSETTO:-0400
TZNAME:EDT
DTSTART:20250309T070000
END:DAYLIGHT
BEGIN:STANDARD
TZOFFSETFROM:-0400
TZOFFSETTO:-0500
TZNAME:EST
DTSTART:20251102T060000
END:STANDARD
BEGIN:DAYLIGHT
TZOFFSETFROM:-0500
TZOFFSETTO:-0400
TZNAME:EDT
DTSTART:20260308T070000
END:DAYLIGHT
BEGIN:STANDARD
TZOFFSETFROM:-0400
TZOFFSETTO:-0500
TZNAME:EST
DTSTART:20261101T060000
END:STANDARD
END:VTIMEZONE
BEGIN:VEVENT
DTSTART;TZID=America/New_York:20250123T120000
DTEND;TZID=America/New_York:20250123T140000
DTSTAMP:20260421T215745
CREATED:20250105T201940Z
LAST-MODIFIED:20250113T000656Z
UID:3995-1737633600-1737640800@rachelfranklin.com
SUMMARY:Smithsonian Associates: The Glory of Russian Masterworks\, Lecture 3 - From Mussorgsky to Rachmaninoff and Scriabin
DESCRIPTION:https://smithsonianassociates.org/ticketing/programs/glory-of-russian-masterworks\n			\n				\n				\n				\n				\n				Tchaikovsky\, Mussorgsky\, Rimsky-Korsakov\, Rachmaninoff\, Prokofiev: Russia has provided us with some of the most exciting and original music in the repertoire today. Vibrant colors\, explosive energy\, and passionate emotional drive characterize the works of these composers. Yet this tradition seemed to spring from nowhere barely 150 years ago\, expanding meteorically in breadth and national confidence over an amazingly short period. As she explores the riches of Russian concert works\, popular speaker and concert pianist Rachel Franklin combines lecture and piano demonstrations to also trace the turbulent historical movements that acted both as backdrop and engine for this fascinating musical evolution. \nBritish-born Franklin has been a featured speaker for organizations including the Library of Congress and heard on NPR\, exploring intersections among classical and jazz music\, film scores\, and the fine arts. \n——————————————————————————————————————————————— \nModeste Mussorgsky was rough-hewn\, barely trained\, and obsessed with the rhythms of the Russian language\, while Sergey Rachmaninoff was supremely polished and an international concert pianist of titanic genius. Yet both formed their styles directly from ancient Russian traditions. Franklin showcases Mussorgsky’s Pictures at an Exhibition and Rachmaninoff’s piano concertos. Meanwhile\, the highly eccentric Scriabin was creating his own language colored by synaesthesia and powered by his bizarre mystic beliefs\, as exemplified by his tone poem Prometheus: Poem of Fire. \n 
URL:https://rachelfranklin.com/event/the-glory-of-russian-masterworks-lecture-3-from-mussorgsky-to-rachmaninoff-and-scriabin/
LOCATION:Isle of Man
ATTACH;FMTTYPE=image/jpeg:https://rachelfranklin.com/wp-content/uploads/2024/12/Rachmaninoff.jpg
END:VEVENT
END:VCALENDAR