BEGIN:VCALENDAR
VERSION:2.0
PRODID:-//Rachel Franklin - ECPv6.15.20//NONSGML v1.0//EN
CALSCALE:GREGORIAN
METHOD:PUBLISH
X-ORIGINAL-URL:https://rachelfranklin.com
X-WR-CALDESC:Events for Rachel Franklin
REFRESH-INTERVAL;VALUE=DURATION:PT1H
X-Robots-Tag:noindex
X-PUBLISHED-TTL:PT1H
BEGIN:VTIMEZONE
TZID:America/New_York
BEGIN:DAYLIGHT
TZOFFSETFROM:-0500
TZOFFSETTO:-0400
TZNAME:EDT
DTSTART:20240310T070000
END:DAYLIGHT
BEGIN:STANDARD
TZOFFSETFROM:-0400
TZOFFSETTO:-0500
TZNAME:EST
DTSTART:20241103T060000
END:STANDARD
BEGIN:DAYLIGHT
TZOFFSETFROM:-0500
TZOFFSETTO:-0400
TZNAME:EDT
DTSTART:20250309T070000
END:DAYLIGHT
BEGIN:STANDARD
TZOFFSETFROM:-0400
TZOFFSETTO:-0500
TZNAME:EST
DTSTART:20251102T060000
END:STANDARD
BEGIN:DAYLIGHT
TZOFFSETFROM:-0500
TZOFFSETTO:-0400
TZNAME:EDT
DTSTART:20260308T070000
END:DAYLIGHT
BEGIN:STANDARD
TZOFFSETFROM:-0400
TZOFFSETTO:-0500
TZNAME:EST
DTSTART:20261101T060000
END:STANDARD
END:VTIMEZONE
BEGIN:VEVENT
DTSTART;TZID=America/New_York:20250324T120000
DTEND;TZID=America/New_York:20250324T140000
DTSTAMP:20260421T175046
CREATED:20250118T214123Z
LAST-MODIFIED:20250118T225348Z
UID:4041-1742817600-1742824800@rachelfranklin.com
SUMMARY:Smithsonian Associates: Great Composer-Pianists - Chopin
DESCRIPTION:https://smithsonianassociates.org/ticketing/programs/great-composer-pianists\n			\n				\n				\n				\n				\n				Popular speaker and concert pianist Rachel Franklin guides a unique look at the monumental keyboard talents of four great composer-pianists and how their performing virtuosity influenced the piano works we enjoy today. \nWith a legacy of printed compositions but no recordings\, how can we get closer to the white-hot moments of creation and performance when these artists poured out their genius for fortunate and astonished listeners? How did the composers’ musical imaginations and their signature performance styles influence the development of how pianos would be constructed and sound? And did their contemporary audiences even comprehend what they were hearing? \nFranklin offers a fascinating exploration into the creative minds—and hands—of a quartet of piano pioneers celebrated for their prowess as composers and performers. She concludes each lecture with a live performance of a work by the spotlighted composer. \nBritish-born Franklin has been a featured speaker for organizations including the Library of Congress and NPR\, exploring intersections among classical and jazz music\, film scores\, and the fine arts. \n——————————————————————————————————————————————— \nBecause of both his fragile health and the exquisite patina of his style\, our understanding of Chopin’s playing is sometimes clouded by romantic myth. While he only enjoyed performing for private audiences\, many reports show him to have been a mesmerizing player with a piano technique and harmony so revolutionary that it left his brilliant friend Franz Liszt scrambling to keep up. \n 
URL:https://rachelfranklin.com/event/smithsonian-associates-great-composer-pianists-chopin/
LOCATION:Isle of Man
ATTACH;FMTTYPE=image/png:https://rachelfranklin.com/wp-content/uploads/2025/01/Chopin.png
END:VEVENT
END:VCALENDAR