BEGIN:VCALENDAR
VERSION:2.0
PRODID:-//Rachel Franklin - ECPv6.15.20//NONSGML v1.0//EN
CALSCALE:GREGORIAN
METHOD:PUBLISH
X-WR-CALNAME:Rachel Franklin
X-ORIGINAL-URL:https://rachelfranklin.com
X-WR-CALDESC:Events for Rachel Franklin
REFRESH-INTERVAL;VALUE=DURATION:PT1H
X-Robots-Tag:noindex
X-PUBLISHED-TTL:PT1H
BEGIN:VTIMEZONE
TZID:America/New_York
BEGIN:DAYLIGHT
TZOFFSETFROM:-0500
TZOFFSETTO:-0400
TZNAME:EDT
DTSTART:20240310T070000
END:DAYLIGHT
BEGIN:STANDARD
TZOFFSETFROM:-0400
TZOFFSETTO:-0500
TZNAME:EST
DTSTART:20241103T060000
END:STANDARD
BEGIN:DAYLIGHT
TZOFFSETFROM:-0500
TZOFFSETTO:-0400
TZNAME:EDT
DTSTART:20250309T070000
END:DAYLIGHT
BEGIN:STANDARD
TZOFFSETFROM:-0400
TZOFFSETTO:-0500
TZNAME:EST
DTSTART:20251102T060000
END:STANDARD
BEGIN:DAYLIGHT
TZOFFSETFROM:-0500
TZOFFSETTO:-0400
TZNAME:EDT
DTSTART:20260308T070000
END:DAYLIGHT
BEGIN:STANDARD
TZOFFSETFROM:-0400
TZOFFSETTO:-0500
TZNAME:EST
DTSTART:20261101T060000
END:STANDARD
END:VTIMEZONE
BEGIN:VEVENT
DTSTART;TZID=America/New_York:20250331T120000
DTEND;TZID=America/New_York:20250331T140000
DTSTAMP:20260421T160940
CREATED:20250118T214959Z
LAST-MODIFIED:20250118T220556Z
UID:4047-1743422400-1743429600@rachelfranklin.com
SUMMARY:Smithsonian Associates: Great Composer-Pianists - Brahms
DESCRIPTION:https://smithsonianassociates.org/ticketing/programs/great-composer-pianists\n			\n				\n				\n				\n				\n				Popular speaker and concert pianist Rachel Franklin guides a unique look at the monumental keyboard talents of four great composer-pianists and how their performing virtuosity influenced the piano works we enjoy today. \nWith a legacy of printed compositions but no recordings\, how can we get closer to the white-hot moments of creation and performance when these artists poured out their genius for fortunate and astonished listeners? How did the composers’ musical imaginations and their signature performance styles influence the development of how pianos would be constructed and sound? And did their contemporary audiences even comprehend what they were hearing? \nFranklin offers a fascinating exploration into the creative minds—and hands—of a quartet of piano pioneers celebrated for their prowess as composers and performers. She concludes each lecture with a live performance of a work by the spotlighted composer. \nBritish-born Franklin has been a featured speaker for organizations including the Library of Congress and NPR\, exploring intersections among classical and jazz music\, film scores\, and the fine arts. \n——————————————————————————————————————————————— \nBrahms trained intensely as a pianist and all his compositions for the instrument demand a prodigious and highly controlled technique. He was also a renowned pedagogue\, and he and his muse Clara Schumann taught many students whose playing was subsequently captured by early recording\, providing a tantalizing glimpse into the performing styles of the 19th century. \n 
URL:https://rachelfranklin.com/event/smithsonian-associates-great-composer-pianists-brahms/
LOCATION:Isle of Man
ATTACH;FMTTYPE=image/jpeg:https://rachelfranklin.com/wp-content/uploads/2025/01/Brahms.jpg
END:VEVENT
END:VCALENDAR