BEGIN:VCALENDAR
VERSION:2.0
PRODID:-//Rachel Franklin - ECPv6.15.20//NONSGML v1.0//EN
CALSCALE:GREGORIAN
METHOD:PUBLISH
X-ORIGINAL-URL:https://rachelfranklin.com
X-WR-CALDESC:Events for Rachel Franklin
REFRESH-INTERVAL;VALUE=DURATION:PT1H
X-Robots-Tag:noindex
X-PUBLISHED-TTL:PT1H
BEGIN:VTIMEZONE
TZID:America/New_York
BEGIN:DAYLIGHT
TZOFFSETFROM:-0500
TZOFFSETTO:-0400
TZNAME:EDT
DTSTART:20240310T070000
END:DAYLIGHT
BEGIN:STANDARD
TZOFFSETFROM:-0400
TZOFFSETTO:-0500
TZNAME:EST
DTSTART:20241103T060000
END:STANDARD
BEGIN:DAYLIGHT
TZOFFSETFROM:-0500
TZOFFSETTO:-0400
TZNAME:EDT
DTSTART:20250309T070000
END:DAYLIGHT
BEGIN:STANDARD
TZOFFSETFROM:-0400
TZOFFSETTO:-0500
TZNAME:EST
DTSTART:20251102T060000
END:STANDARD
BEGIN:DAYLIGHT
TZOFFSETFROM:-0500
TZOFFSETTO:-0400
TZNAME:EDT
DTSTART:20260308T070000
END:DAYLIGHT
BEGIN:STANDARD
TZOFFSETFROM:-0400
TZOFFSETTO:-0500
TZNAME:EST
DTSTART:20261101T060000
END:STANDARD
END:VTIMEZONE
BEGIN:VEVENT
DTSTART;TZID=America/New_York:20250716T120000
DTEND;TZID=America/New_York:20250716T133000
DTSTAMP:20260421T103352
CREATED:20250621T173324Z
LAST-MODIFIED:20250621T174103Z
UID:4127-1752667200-1752672600@rachelfranklin.com
SUMMARY:Smithsonian Associates: The Exquisite Enigma of Maurice Ravel\, Lecture 1 - "I am neither a romantic nor a classic. I am myself."
DESCRIPTION:https://smithsonianassociates.org/ticketing/programs/maurice-ravel\n			\n				\n				\n				\n				\n				“Music should be the beautiful\, fragile wing of the soul. It should enchant\, caress\, and disturb.”  —Maurice Ravel \nThe music of Ravel brings a unique form of magnetism\, delicacy\, passion\, and a frisson of disquiet to our concert experience. Beneath his shimmering sound canvases lie an extraordinary craft and fanatical precision that underpins every silken phrase and melody. Concert pianist and speaker Rachel Franklin celebrates Ravel’s 150th birthday by exploring a wide range of his works from such greatly loved masterpieces as Daphnis et Chloé and La Valse to solo display works like Tzigane that dazzle with their beauty and technical brilliance. \nBritish-born Franklin has been a featured speaker for organizations including the Library of Congress and NPR\, exploring intersections among classical and jazz music\, film scores\, and the fine arts. \n——————————————————————————————————————————————— \nIn the years before World War I Ravel carved out a highly distinctive path for himself as a young innovator\, creating ravishing sonic worlds that both seduced and confused his listeners. Selections include his ballet Daphnis et Chloé\, piano works Jeux d’Eau and Gaspard de la Nuit\, and his String Quartet in F.
URL:https://rachelfranklin.com/event/smithsonian-associates-the-exquisite-enigma-of-maurice-ravel-lecture-1-i-am-neither-a-romantic-nor-a-classic-i-am-myself/
LOCATION:Isle of Man
ATTACH;FMTTYPE=image/jpeg:https://rachelfranklin.com/wp-content/uploads/2025/06/Ravel.jpg
END:VEVENT
END:VCALENDAR