BEGIN:VCALENDAR
VERSION:2.0
PRODID:-//Rachel Franklin - ECPv6.15.20//NONSGML v1.0//EN
CALSCALE:GREGORIAN
METHOD:PUBLISH
X-WR-CALNAME:Rachel Franklin
X-ORIGINAL-URL:https://rachelfranklin.com
X-WR-CALDESC:Events for Rachel Franklin
REFRESH-INTERVAL;VALUE=DURATION:PT1H
X-Robots-Tag:noindex
X-PUBLISHED-TTL:PT1H
BEGIN:VTIMEZONE
TZID:America/New_York
BEGIN:DAYLIGHT
TZOFFSETFROM:-0500
TZOFFSETTO:-0400
TZNAME:EDT
DTSTART:20250309T070000
END:DAYLIGHT
BEGIN:STANDARD
TZOFFSETFROM:-0400
TZOFFSETTO:-0500
TZNAME:EST
DTSTART:20251102T060000
END:STANDARD
BEGIN:DAYLIGHT
TZOFFSETFROM:-0500
TZOFFSETTO:-0400
TZNAME:EDT
DTSTART:20260308T070000
END:DAYLIGHT
BEGIN:STANDARD
TZOFFSETFROM:-0400
TZOFFSETTO:-0500
TZNAME:EST
DTSTART:20261101T060000
END:STANDARD
BEGIN:DAYLIGHT
TZOFFSETFROM:-0500
TZOFFSETTO:-0400
TZNAME:EDT
DTSTART:20270314T070000
END:DAYLIGHT
BEGIN:STANDARD
TZOFFSETFROM:-0400
TZOFFSETTO:-0500
TZNAME:EST
DTSTART:20271107T060000
END:STANDARD
END:VTIMEZONE
BEGIN:VEVENT
DTSTART;TZID=America/New_York:20260126T120000
DTEND;TZID=America/New_York:20260126T133000
DTSTAMP:20260422T052218
CREATED:20251221T215629Z
LAST-MODIFIED:20251221T215634Z
UID:4992-1769428800-1769434200@rachelfranklin.com
SUMMARY:Smithsonian Associates: Women Who Shaped the Musical World\, Lecture 2 - Entrepreneurs\, Gurus\, Muses\, Nurturers
DESCRIPTION:https://smithsonianassociates.org/ticketing/programs/women-who-shaped-musical-world\n			\n				\n				\n				\n				\n				Throughout the history of Western music\, men have claimed most of the spotlight and accolades as performers\, composers\, teachers\, impresarios\, patrons\, and instrument makers. Less attention has been paid to the scores of brilliant creative women who played these roles—along with many others—and who were relegated to the less brightly lit corners of the musical word. \nPopular speaker and concert pianist Rachel Franklin places them center stage as she examines their talent\, grit\, intellect\, and drive\, without which many of the most celebrated musical figures might have been significantly less successful\, and the musical repertoire far less rich. She brings these women and their often-untold stories to life\, showcasing them with live piano performances and historical and contemporary media clips. \nBritish-born Franklin has been a featured speaker for organizations including the Library of Congress and NPR\, exploring intersections among classical and jazz music\, film scores\, and the fine arts. \n——————————————————————————————————————————————— \nWhen she wasn’t busy building superb instruments for her friend Beethoven\, piano maker Nannette Streicher helped him run his hopelessly disorganized household while barely keeping up with her own. George Sand juggled her successful writing career with supporting the endlessly complex needs of her lover Chopin and raising her two children. Cosima Wagner and Alma Mahler both defied social mores and scandalized their contemporaries with their affairs and marriages to powerful older composers\, becoming their muses and managers. The brilliant Boulanger sisters\, composer Lili and teacher Nadia\, influenced the path of modern composition\, with composers from across the Western world beating a path to Nadia’s door for her uniquely insightful guidance.
URL:https://rachelfranklin.com/event/smithsonian-associates-women-who-shaped-the-musical-world-lecture-2-entrepreneurs-gurus-muses-nurturers/
LOCATION:Isle of Man
ATTACH;FMTTYPE=image/jpeg:https://rachelfranklin.com/wp-content/uploads/2025/12/WomenMusicalWorld.jpg
END:VEVENT
END:VCALENDAR