BEGIN:VCALENDAR
VERSION:2.0
PRODID:-//Rachel Franklin - ECPv6.15.20//NONSGML v1.0//EN
CALSCALE:GREGORIAN
METHOD:PUBLISH
X-WR-CALNAME:Rachel Franklin
X-ORIGINAL-URL:https://rachelfranklin.com
X-WR-CALDESC:Events for Rachel Franklin
REFRESH-INTERVAL;VALUE=DURATION:PT1H
X-Robots-Tag:noindex
X-PUBLISHED-TTL:PT1H
BEGIN:VTIMEZONE
TZID:America/New_York
BEGIN:DAYLIGHT
TZOFFSETFROM:-0500
TZOFFSETTO:-0400
TZNAME:EDT
DTSTART:20230312T070000
END:DAYLIGHT
BEGIN:STANDARD
TZOFFSETFROM:-0400
TZOFFSETTO:-0500
TZNAME:EST
DTSTART:20231105T060000
END:STANDARD
BEGIN:DAYLIGHT
TZOFFSETFROM:-0500
TZOFFSETTO:-0400
TZNAME:EDT
DTSTART:20240310T070000
END:DAYLIGHT
BEGIN:STANDARD
TZOFFSETFROM:-0400
TZOFFSETTO:-0500
TZNAME:EST
DTSTART:20241103T060000
END:STANDARD
BEGIN:DAYLIGHT
TZOFFSETFROM:-0500
TZOFFSETTO:-0400
TZNAME:EDT
DTSTART:20250309T070000
END:DAYLIGHT
BEGIN:STANDARD
TZOFFSETFROM:-0400
TZOFFSETTO:-0500
TZNAME:EST
DTSTART:20251102T060000
END:STANDARD
END:VTIMEZONE
BEGIN:VEVENT
DTSTART;TZID=America/New_York:20241212T120000
DTEND;TZID=America/New_York:20241212T133000
DTSTAMP:20260419T175629
CREATED:20241009T200526Z
LAST-MODIFIED:20241130T220229Z
UID:3733-1734004800-1734010200@rachelfranklin.com
SUMMARY:Rachel Franklin for the Smithsonian Associates: Classical Sounds of Christmas
DESCRIPTION:https://smithsonianassociates.org/ticketing/programs/classical-sounds-of-christmas\n			\n				\n				\n				\n				\n				Popular speaker and concert pianist Rachel Franklin revisits this most beloved seasonal repertory\, hand-picking additional selections to explore how classical Western composers created a canon of both secular and sacred experiences that are now deeply rooted in our collective seasonal expectations. From sleigh bells and sugarplums to the mystical beauties of the Nativity\, every December our senses are filled with the music of Christmas. Some of this music is ancient and folk-based\, some grandly Baroque\, and more recent masterpieces have evoked images of feasting\, bells\, snowy Christmas trees\, brightly colored candy and jolly red Santas. Enjoy the stories behind works by such composers as Bach\, Handel\, Sibelius\, Tchaikovsky\, Francisco Guerrero\, Rimsky-Korsakov\, Britten\, Vaughan Williams\, Humperdinck\, William Henry Fry\, and many others. \nBritish-born Franklin has been a featured speaker for organizations including the Library of Congress and NPR\, exploring intersections among classical and jazz music\, film scores\, and the fine arts. \nDecember 12  Sacred Glories of the Season \nWhether it’s the intimacy of a medieval carol or the mighty choirs of the Messiah\, sacred music opens a nostalgic portal and taps into our deepest cravings for connection with the divine. Approaching Christmas itself\, travel across Europe sampling inspiring and achingly beautiful music written to celebrate this most spiritual time of the year. Included are exquisite choral works by Sibelius\, Poulenc\, Gustaf Nordqvist and Francisco Guerrero\, arrangements of carols by English composers Vaughan Williams and Benjamin Britten\, and the most beloved seasonal choral works such as Bach’s Christmas Oratorio\, Berlioz’s L’Enfance du Christ and Handel’s Messiah.
URL:https://rachelfranklin.com/event/rachel-franklin-for-the-smithsonian-associates-classical-sounds-of-christmas/
LOCATION:MD
ATTACH;FMTTYPE=image/jpeg:https://rachelfranklin.com/wp-content/uploads/2024/10/ChristmasLeavesOnPiano.jpg
END:VEVENT
BEGIN:VEVENT
DTSTART;TZID=America/New_York:20241207T190000
DTEND;TZID=America/New_York:20241207T193000
DTSTAMP:20260419T175629
CREATED:20241205T215144Z
LAST-MODIFIED:20241227T003143Z
UID:3900-1733598000-1733599800@rachelfranklin.com
SUMMARY:Rachel Franklin for the Baltimore Symphony Orchestra: Inside the Classics
DESCRIPTION:https://www.bsomusic.org/inside-the-classics/\n			\n				\n				\n				\n				\n				Dr. Rachel Franklin is delighted to be the Baltimore Symphony Orchestra’s Strathmore Music Scholar-in-Residence. She gives all the BSO’s pre-concert presentations at their Bethesda\, MD venue\, Strathmore Hall as part of their “Inside the Classics” series.
URL:https://rachelfranklin.com/event/rachel-franklin-for-the-baltimore-symphony-orchestra-inside-the-classics/
LOCATION:Music Center at Strathmore\, 5301 Tuckerman Ln\, North Bethesda\, MD\, 20852\, United States
ATTACH;FMTTYPE=image/jpeg:https://rachelfranklin.com/wp-content/uploads/2024/12/BaltimoreSymphonyOrchestra.jpg
END:VEVENT
BEGIN:VEVENT
DTSTART;TZID=America/New_York:20241205T120000
DTEND;TZID=America/New_York:20241205T133000
DTSTAMP:20260419T175629
CREATED:20241110T185602Z
LAST-MODIFIED:20241130T220415Z
UID:3739-1733400000-1733405400@rachelfranklin.com
SUMMARY:Rachel Franklin for the Smithsonian Associates: Classical Sounds of Christmas
DESCRIPTION:https://smithsonianassociates.org/ticketing/programs/classical-sounds-of-christmas\n			\n				\n				\n				\n				\n				Popular speaker and concert pianist Rachel Franklin revisits this most beloved seasonal repertory\, hand-picking additional selections to explore how classical Western composers created a canon of both secular and sacred experiences that are now deeply rooted in our collective seasonal expectations. From sleigh bells and sugarplums to the mystical beauties of the Nativity\, every December our senses are filled with the music of Christmas. Some of this music is ancient and folk-based\, some grandly Baroque\, and more recent masterpieces have evoked images of feasting\, bells\, snowy Christmas trees\, brightly colored candy and jolly red Santas. Enjoy the stories behind works by such composers as Bach\, Handel\, Sibelius\, Tchaikovsky\, Francisco Guerrero\, Rimsky-Korsakov\, Britten\, Vaughan Williams\, Humperdinck\, William Henry Fry\, and many others. \nBritish-born Franklin has been a featured speaker for organizations including the Library of Congress and NPR\, exploring intersections among classical and jazz music\, film scores\, and the fine arts. \nDecember 5  A Christmas Box of Musical Delights \nLeopold Mozart\, Leroy Anderson\, Prokofiev: All take us on jingling sleigh rides\, while snowy landscapes by Florence Price and Niels Gade lead to the glittering holiday magic of Rimsky-Korsakov’s Christmas Eve Suite and\, of course\, Tchaikovsky’s incomparable Nutcracker. Ellington and Strayhorn compose a swinging homage to that most famous Christmas ballet\, and as for Santa Claus\, William Fry gives him a symphony of his own.
URL:https://rachelfranklin.com/event/rachel-franklin-for-the-smithsonian-associates-classical-sounds-of-christmas-2/
LOCATION:MD
ATTACH;FMTTYPE=image/jpeg:https://rachelfranklin.com/wp-content/uploads/2024/10/ChristmasLeavesOnPiano.jpg
END:VEVENT
END:VCALENDAR