BEGIN:VCALENDAR
VERSION:2.0
PRODID:-//Rachel Franklin - ECPv6.15.20//NONSGML v1.0//EN
CALSCALE:GREGORIAN
METHOD:PUBLISH
X-ORIGINAL-URL:https://rachelfranklin.com
X-WR-CALDESC:Events for Rachel Franklin
REFRESH-INTERVAL;VALUE=DURATION:PT1H
X-Robots-Tag:noindex
X-PUBLISHED-TTL:PT1H
BEGIN:VTIMEZONE
TZID:America/New_York
BEGIN:DAYLIGHT
TZOFFSETFROM:-0500
TZOFFSETTO:-0400
TZNAME:EDT
DTSTART:20240310T070000
END:DAYLIGHT
BEGIN:STANDARD
TZOFFSETFROM:-0400
TZOFFSETTO:-0500
TZNAME:EST
DTSTART:20241103T060000
END:STANDARD
BEGIN:DAYLIGHT
TZOFFSETFROM:-0500
TZOFFSETTO:-0400
TZNAME:EDT
DTSTART:20250309T070000
END:DAYLIGHT
BEGIN:STANDARD
TZOFFSETFROM:-0400
TZOFFSETTO:-0500
TZNAME:EST
DTSTART:20251102T060000
END:STANDARD
BEGIN:DAYLIGHT
TZOFFSETFROM:-0500
TZOFFSETTO:-0400
TZNAME:EDT
DTSTART:20260308T070000
END:DAYLIGHT
BEGIN:STANDARD
TZOFFSETFROM:-0400
TZOFFSETTO:-0500
TZNAME:EST
DTSTART:20261101T060000
END:STANDARD
END:VTIMEZONE
BEGIN:VEVENT
DTSTART;TZID=America/New_York:20250308T190000
DTEND;TZID=America/New_York:20250308T193000
DTSTAMP:20260421T160737
CREATED:20250105T195301Z
LAST-MODIFIED:20250105T195303Z
UID:3972-1741460400-1741462200@rachelfranklin.com
SUMMARY:Rachel Franklin for the Baltimore Symphony Orchestra: Inside the Classics
DESCRIPTION:https://www.bsomusic.org/inside-the-classics/\n			\n				\n				\n				\n				\n				Dr. Rachel Franklin is delighted to be the Baltimore Symphony Orchestra’s Strathmore Music Scholar-in-Residence. She gives all the BSO’s pre-concert presentations at their Bethesda\, MD venue\, Strathmore Hall as part of their “Inside the Classics” series.
URL:https://rachelfranklin.com/event/rachel-franklin-for-the-baltimore-symphony-orchestra-inside-the-classics-7/
LOCATION:Music Center at Strathmore\, 5301 Tuckerman Ln\, North Bethesda\, MD\, 20852\, United States
ATTACH;FMTTYPE=image/jpeg:https://rachelfranklin.com/wp-content/uploads/2024/12/BaltimoreSymphonyOrchestra.jpg
END:VEVENT
BEGIN:VEVENT
DTSTART;TZID=America/New_York:20250310T120000
DTEND;TZID=America/New_York:20250310T140000
DTSTAMP:20260421T160737
CREATED:20250118T212502Z
LAST-MODIFIED:20250118T212506Z
UID:4031-1741608000-1741615200@rachelfranklin.com
SUMMARY:Smithsonian Associates: Great Composer-Pianists - Mozart
DESCRIPTION:https://smithsonianassociates.org/ticketing/programs/great-composer-pianists\n			\n				\n				\n				\n				\n				Popular speaker and concert pianist Rachel Franklin guides a unique look at the monumental keyboard talents of four great composer-pianists and how their performing virtuosity influenced the piano works we enjoy today. \nWith a legacy of printed compositions but no recordings\, how can we get closer to the white-hot moments of creation and performance when these artists poured out their genius for fortunate and astonished listeners? How did the composers’ musical imaginations and their signature performance styles influence the development of how pianos would be constructed and sound? And did their contemporary audiences even comprehend what they were hearing? \nFranklin offers a fascinating exploration into the creative minds—and hands—of a quartet of piano pioneers celebrated for their prowess as composers and performers. She concludes each lecture with a live performance of a work by the spotlighted composer. \nBritish-born Franklin has been a featured speaker for organizations including the Library of Congress and NPR\, exploring intersections among classical and jazz music\, film scores\, and the fine arts. \n——————————————————————————————————————————————— \nMozart’s playing was regarded as simply wondrous. Franklin examines his beginnings as a harpsichord player and how he subsequently pivoted directly to the recently developed pianofortes\, creating new concerto styles that both dazzled and confused his audiences. \n 
URL:https://rachelfranklin.com/event/smithsonian-associates-great-composer-pianists-mozart/
LOCATION:Isle of Man
ATTACH;FMTTYPE=image/jpeg:https://rachelfranklin.com/wp-content/uploads/2025/01/Mozart.jpg
END:VEVENT
BEGIN:VEVENT
DTSTART;TZID=America/New_York:20250317T120000
DTEND;TZID=America/New_York:20250317T140000
DTSTAMP:20260421T160737
CREATED:20250118T213241Z
LAST-MODIFIED:20250118T213245Z
UID:4037-1742212800-1742220000@rachelfranklin.com
SUMMARY:Smithsonian Associates: Great Composer-Pianists - Beethoven
DESCRIPTION:https://smithsonianassociates.org/ticketing/programs/great-composer-pianists\n			\n				\n				\n				\n				\n				Popular speaker and concert pianist Rachel Franklin guides a unique look at the monumental keyboard talents of four great composer-pianists and how their performing virtuosity influenced the piano works we enjoy today. \nWith a legacy of printed compositions but no recordings\, how can we get closer to the white-hot moments of creation and performance when these artists poured out their genius for fortunate and astonished listeners? How did the composers’ musical imaginations and their signature performance styles influence the development of how pianos would be constructed and sound? And did their contemporary audiences even comprehend what they were hearing? \nFranklin offers a fascinating exploration into the creative minds—and hands—of a quartet of piano pioneers celebrated for their prowess as composers and performers. She concludes each lecture with a live performance of a work by the spotlighted composer. \nBritish-born Franklin has been a featured speaker for organizations including the Library of Congress and NPR\, exploring intersections among classical and jazz music\, film scores\, and the fine arts. \n——————————————————————————————————————————————— \nMozart may have enchanted his listeners\, but Beethoven overwhelmed and frequently disturbed them. While constantly harassing piano makers for stronger instruments and dealing with encroaching deafness\, Beethoven created entirely new piano techniques almost by accident as he fought to express his titanic ideas on the instrument. \n 
URL:https://rachelfranklin.com/event/smithsonian-associates-great-composer-pianists-beethoven/
LOCATION:Isle of Man
ATTACH;FMTTYPE=image/jpeg:https://rachelfranklin.com/wp-content/uploads/2025/01/Beethoven.jpg
END:VEVENT
BEGIN:VEVENT
DTSTART;TZID=America/New_York:20250322T190000
DTEND;TZID=America/New_York:20250322T193000
DTSTAMP:20260421T160737
CREATED:20250105T195417Z
LAST-MODIFIED:20250105T195421Z
UID:3974-1742670000-1742671800@rachelfranklin.com
SUMMARY:Rachel Franklin for the Baltimore Symphony Orchestra: Inside the Classics
DESCRIPTION:https://www.bsomusic.org/inside-the-classics/\n			\n				\n				\n				\n				\n				Dr. Rachel Franklin is delighted to be the Baltimore Symphony Orchestra’s Strathmore Music Scholar-in-Residence. She gives all the BSO’s pre-concert presentations at their Bethesda\, MD venue\, Strathmore Hall as part of their “Inside the Classics” series.
URL:https://rachelfranklin.com/event/rachel-franklin-for-the-baltimore-symphony-orchestra-inside-the-classics-8/
LOCATION:Music Center at Strathmore\, 5301 Tuckerman Ln\, North Bethesda\, MD\, 20852\, United States
ATTACH;FMTTYPE=image/jpeg:https://rachelfranklin.com/wp-content/uploads/2024/12/BaltimoreSymphonyOrchestra.jpg
END:VEVENT
BEGIN:VEVENT
DTSTART;TZID=America/New_York:20250324T120000
DTEND;TZID=America/New_York:20250324T140000
DTSTAMP:20260421T160738
CREATED:20250118T214123Z
LAST-MODIFIED:20250118T225348Z
UID:4041-1742817600-1742824800@rachelfranklin.com
SUMMARY:Smithsonian Associates: Great Composer-Pianists - Chopin
DESCRIPTION:https://smithsonianassociates.org/ticketing/programs/great-composer-pianists\n			\n				\n				\n				\n				\n				Popular speaker and concert pianist Rachel Franklin guides a unique look at the monumental keyboard talents of four great composer-pianists and how their performing virtuosity influenced the piano works we enjoy today. \nWith a legacy of printed compositions but no recordings\, how can we get closer to the white-hot moments of creation and performance when these artists poured out their genius for fortunate and astonished listeners? How did the composers’ musical imaginations and their signature performance styles influence the development of how pianos would be constructed and sound? And did their contemporary audiences even comprehend what they were hearing? \nFranklin offers a fascinating exploration into the creative minds—and hands—of a quartet of piano pioneers celebrated for their prowess as composers and performers. She concludes each lecture with a live performance of a work by the spotlighted composer. \nBritish-born Franklin has been a featured speaker for organizations including the Library of Congress and NPR\, exploring intersections among classical and jazz music\, film scores\, and the fine arts. \n——————————————————————————————————————————————— \nBecause of both his fragile health and the exquisite patina of his style\, our understanding of Chopin’s playing is sometimes clouded by romantic myth. While he only enjoyed performing for private audiences\, many reports show him to have been a mesmerizing player with a piano technique and harmony so revolutionary that it left his brilliant friend Franz Liszt scrambling to keep up. \n 
URL:https://rachelfranklin.com/event/smithsonian-associates-great-composer-pianists-chopin/
LOCATION:Isle of Man
ATTACH;FMTTYPE=image/png:https://rachelfranklin.com/wp-content/uploads/2025/01/Chopin.png
END:VEVENT
BEGIN:VEVENT
DTSTART;TZID=America/New_York:20250331T120000
DTEND;TZID=America/New_York:20250331T140000
DTSTAMP:20260421T160738
CREATED:20250118T214959Z
LAST-MODIFIED:20250118T220556Z
UID:4047-1743422400-1743429600@rachelfranklin.com
SUMMARY:Smithsonian Associates: Great Composer-Pianists - Brahms
DESCRIPTION:https://smithsonianassociates.org/ticketing/programs/great-composer-pianists\n			\n				\n				\n				\n				\n				Popular speaker and concert pianist Rachel Franklin guides a unique look at the monumental keyboard talents of four great composer-pianists and how their performing virtuosity influenced the piano works we enjoy today. \nWith a legacy of printed compositions but no recordings\, how can we get closer to the white-hot moments of creation and performance when these artists poured out their genius for fortunate and astonished listeners? How did the composers’ musical imaginations and their signature performance styles influence the development of how pianos would be constructed and sound? And did their contemporary audiences even comprehend what they were hearing? \nFranklin offers a fascinating exploration into the creative minds—and hands—of a quartet of piano pioneers celebrated for their prowess as composers and performers. She concludes each lecture with a live performance of a work by the spotlighted composer. \nBritish-born Franklin has been a featured speaker for organizations including the Library of Congress and NPR\, exploring intersections among classical and jazz music\, film scores\, and the fine arts. \n——————————————————————————————————————————————— \nBrahms trained intensely as a pianist and all his compositions for the instrument demand a prodigious and highly controlled technique. He was also a renowned pedagogue\, and he and his muse Clara Schumann taught many students whose playing was subsequently captured by early recording\, providing a tantalizing glimpse into the performing styles of the 19th century. \n 
URL:https://rachelfranklin.com/event/smithsonian-associates-great-composer-pianists-brahms/
LOCATION:Isle of Man
ATTACH;FMTTYPE=image/jpeg:https://rachelfranklin.com/wp-content/uploads/2025/01/Brahms.jpg
END:VEVENT
END:VCALENDAR