BEGIN:VCALENDAR
VERSION:2.0
PRODID:-//Rachel Franklin - ECPv6.15.20//NONSGML v1.0//EN
CALSCALE:GREGORIAN
METHOD:PUBLISH
X-ORIGINAL-URL:https://rachelfranklin.com
X-WR-CALDESC:Events for Rachel Franklin
REFRESH-INTERVAL;VALUE=DURATION:PT1H
X-Robots-Tag:noindex
X-PUBLISHED-TTL:PT1H
BEGIN:VTIMEZONE
TZID:America/New_York
BEGIN:DAYLIGHT
TZOFFSETFROM:-0500
TZOFFSETTO:-0400
TZNAME:EDT
DTSTART:20240310T070000
END:DAYLIGHT
BEGIN:STANDARD
TZOFFSETFROM:-0400
TZOFFSETTO:-0500
TZNAME:EST
DTSTART:20241103T060000
END:STANDARD
BEGIN:DAYLIGHT
TZOFFSETFROM:-0500
TZOFFSETTO:-0400
TZNAME:EDT
DTSTART:20250309T070000
END:DAYLIGHT
BEGIN:STANDARD
TZOFFSETFROM:-0400
TZOFFSETTO:-0500
TZNAME:EST
DTSTART:20251102T060000
END:STANDARD
BEGIN:DAYLIGHT
TZOFFSETFROM:-0500
TZOFFSETTO:-0400
TZNAME:EDT
DTSTART:20260308T070000
END:DAYLIGHT
BEGIN:STANDARD
TZOFFSETFROM:-0400
TZOFFSETTO:-0500
TZNAME:EST
DTSTART:20261101T060000
END:STANDARD
END:VTIMEZONE
BEGIN:VEVENT
DTSTART;TZID=America/New_York:20250607T190000
DTEND;TZID=America/New_York:20250607T193000
DTSTAMP:20260421T103629
CREATED:20250105T200713Z
LAST-MODIFIED:20250105T200716Z
UID:3986-1749322800-1749324600@rachelfranklin.com
SUMMARY:Rachel Franklin for the Baltimore Symphony Orchestra: Inside the Classics
DESCRIPTION:https://www.bsomusic.org/inside-the-classics/\n			\n				\n				\n				\n				\n				Dr. Rachel Franklin is delighted to be the Baltimore Symphony Orchestra’s Strathmore Music Scholar-in-Residence. She gives all the BSO’s pre-concert presentations at their Bethesda\, MD venue\, Strathmore Hall as part of their “Inside the Classics” series.
URL:https://rachelfranklin.com/event/rachel-franklin-for-the-baltimore-symphony-orchestra-inside-the-classics-14/
LOCATION:Music Center at Strathmore\, 5301 Tuckerman Ln\, North Bethesda\, MD\, 20852\, United States
ATTACH;FMTTYPE=image/jpeg:https://rachelfranklin.com/wp-content/uploads/2024/12/BaltimoreSymphonyOrchestra.jpg
END:VEVENT
BEGIN:VEVENT
DTSTART;TZID=America/New_York:20250610T120000
DTEND;TZID=America/New_York:20250610T133000
DTSTAMP:20260421T103629
CREATED:20250621T175410Z
LAST-MODIFIED:20250621T180542Z
UID:4145-1749556800-1749562200@rachelfranklin.com
SUMMARY:Smithsonian Associates: Art Meets Music - A Duet of Visual Artists and Composers\, Lecture 1 - Chagall at the Opera: A Listener’s Guide
DESCRIPTION:https://smithsonianassociates.org/ticketing/programs/art-meets-music\n			\n				\n				\n				\n				\n				Music and the visual arts have always walked hand in hand. For millennia\, artists have obsessed about how to represent music’s invisible beauty\, just as composers have sought to render art’s vibrant colors in pure sound. \nPopular speaker and concert pianist Rachel Franklin leads a fascinating exploration into the intimate relationship between the visible and invisible arts and how music can literally bind the arts together. \n——————————————————————————————————————————————— \nMarc Chagall said “I wanted to represent\, as in a mirror\, a bunch of dreams\, the creations of the actors and musicians; to keep in mind the colorful clothes of the audience stirring on the lower level. To sing like a bird\, free of any theory and method. To render homage to the great composers of operas and ballets.” From the Paris Opéra Garnier to New York’s Metropolitan Opera\, Chagall created utterly unique murals\, sets\, and costumes for opera houses and theaters worldwide that changed theatrical design forever. Franklin surveys the many composers he glorified and discusses how they inspired him.
URL:https://rachelfranklin.com/event/smithsonian-associates-art-meets-music-a-duet-of-visual-artists-and-composers-lecture-1-chagall-at-the-opera-a-listeners-guide/
LOCATION:Isle of Man
ATTACH;FMTTYPE=image/jpeg:https://rachelfranklin.com/wp-content/uploads/2025/06/ArtMeetsMusic.jpg
END:VEVENT
BEGIN:VEVENT
DTSTART;TZID=America/New_York:20250615T140000
DTEND;TZID=America/New_York:20250615T143000
DTSTAMP:20260421T103629
CREATED:20250105T200836Z
LAST-MODIFIED:20250105T200839Z
UID:3988-1749996000-1749997800@rachelfranklin.com
SUMMARY:Rachel Franklin for the Baltimore Symphony Orchestra: Inside the Classics
DESCRIPTION:https://www.bsomusic.org/inside-the-classics/\n			\n				\n				\n				\n				\n				Dr. Rachel Franklin is delighted to be the Baltimore Symphony Orchestra’s Strathmore Music Scholar-in-Residence. She gives all the BSO’s pre-concert presentations at their Bethesda\, MD venue\, Strathmore Hall as part of their “Inside the Classics” series.
URL:https://rachelfranklin.com/event/rachel-franklin-for-the-baltimore-symphony-orchestra-inside-the-classics-15/
LOCATION:Music Center at Strathmore\, 5301 Tuckerman Ln\, North Bethesda\, MD\, 20852\, United States
ATTACH;FMTTYPE=image/jpeg:https://rachelfranklin.com/wp-content/uploads/2024/12/BaltimoreSymphonyOrchestra.jpg
END:VEVENT
BEGIN:VEVENT
DTSTART;TZID=America/New_York:20250617T120000
DTEND;TZID=America/New_York:20250617T133000
DTSTAMP:20260421T103629
CREATED:20250621T175702Z
LAST-MODIFIED:20250621T180355Z
UID:4151-1750161600-1750167000@rachelfranklin.com
SUMMARY:Smithsonian Associates: Art Meets Music - A Duet of Visual Artists and Composers\, Lecture 2 - Symbols and Allegories: Art’s Hidden Musical Codes
DESCRIPTION:https://smithsonianassociates.org/ticketing/programs/art-meets-music\n			\n				\n				\n				\n				\n				Music and the visual arts have always walked hand in hand. For millennia\, artists have obsessed about how to represent music’s invisible beauty\, just as composers have sought to render art’s vibrant colors in pure sound. \nPopular speaker and concert pianist Rachel Franklin leads a fascinating exploration into the intimate relationship between the visible and invisible arts and how music can literally bind the arts together. \n——————————————————————————————————————————————— \nHumans have been playing music for more than 40\,000 years and images of us with our instruments abound from Neolithic times onwards. From intimate family portraits to massive historical\, religious\, and allegorical artworks\, music and musicians are embedded throughout the history of art. Many of these works contain secret codes that contemporary viewers would have understood. Franklin interprets glorious paintings by artists such as Lippi\, Vermeer\, and Hogarth and offers music that would have been performed at the time.
URL:https://rachelfranklin.com/event/smithsonian-associates-art-meets-music-a-duet-of-visual-artists-and-composers-lecture-2-symbols-and-allegories-arts-hidden-musical-codes/
LOCATION:Isle of Man
ATTACH;FMTTYPE=image/jpeg:https://rachelfranklin.com/wp-content/uploads/2025/06/ArtMeetsMusic.jpg
END:VEVENT
BEGIN:VEVENT
DTSTART;TZID=America/New_York:20250624T120000
DTEND;TZID=America/New_York:20250624T133000
DTSTAMP:20260421T103630
CREATED:20250621T180019Z
LAST-MODIFIED:20250621T180022Z
UID:4156-1750766400-1750771800@rachelfranklin.com
SUMMARY:Smithsonian Associates: Art Meets Music - A Duet of Visual Artists and Composers\, Lecture 3 - The Sharps: Family Harmony
DESCRIPTION:https://smithsonianassociates.org/ticketing/programs/art-meets-music\n			\n				\n				\n				\n				\n				Music and the visual arts have always walked hand in hand. For millennia\, artists have obsessed about how to represent music’s invisible beauty\, just as composers have sought to render art’s vibrant colors in pure sound. \nPopular speaker and concert pianist Rachel Franklin leads a fascinating exploration into the intimate relationship between the visible and invisible arts and how music can literally bind the arts together. \n——————————————————————————————————————————————— \nMeet the Sharps. Behind Johan Joseph Zoffany’s joyful late-18th-century portrait of a musical party on the Thames that depicts the family of Granville Sharp playing together lies a powerful celebration of social harmony and a true commitment to justice. Franklin explores this fascinating intersection of art\, music\, and history to find that the entertaining Sharps have a harmonious message for today: love music\, give back\, and always wear big hats.
URL:https://rachelfranklin.com/event/smithsonian-associates-art-meets-music-a-duet-of-visual-artists-and-composers-lecture-3-the-sharps-family-harmony/
LOCATION:Isle of Man
ATTACH;FMTTYPE=image/jpeg:https://rachelfranklin.com/wp-content/uploads/2025/06/ArtMeetsMusic.jpg
END:VEVENT
END:VCALENDAR