BEGIN:VCALENDAR
VERSION:2.0
PRODID:-//Rachel Franklin - ECPv6.15.20//NONSGML v1.0//EN
CALSCALE:GREGORIAN
METHOD:PUBLISH
X-WR-CALNAME:Rachel Franklin
X-ORIGINAL-URL:https://rachelfranklin.com
X-WR-CALDESC:Events for Rachel Franklin
REFRESH-INTERVAL;VALUE=DURATION:PT1H
X-Robots-Tag:noindex
X-PUBLISHED-TTL:PT1H
BEGIN:VTIMEZONE
TZID:America/New_York
BEGIN:DAYLIGHT
TZOFFSETFROM:-0500
TZOFFSETTO:-0400
TZNAME:EDT
DTSTART:20250309T070000
END:DAYLIGHT
BEGIN:STANDARD
TZOFFSETFROM:-0400
TZOFFSETTO:-0500
TZNAME:EST
DTSTART:20251102T060000
END:STANDARD
BEGIN:DAYLIGHT
TZOFFSETFROM:-0500
TZOFFSETTO:-0400
TZNAME:EDT
DTSTART:20260308T070000
END:DAYLIGHT
BEGIN:STANDARD
TZOFFSETFROM:-0400
TZOFFSETTO:-0500
TZNAME:EST
DTSTART:20261101T060000
END:STANDARD
BEGIN:DAYLIGHT
TZOFFSETFROM:-0500
TZOFFSETTO:-0400
TZNAME:EDT
DTSTART:20270314T070000
END:DAYLIGHT
BEGIN:STANDARD
TZOFFSETFROM:-0400
TZOFFSETTO:-0500
TZNAME:EST
DTSTART:20271107T060000
END:STANDARD
END:VTIMEZONE
BEGIN:VEVENT
DTSTART;TZID=America/New_York:20260108T190000
DTEND;TZID=America/New_York:20260108T193000
DTSTAMP:20260422T050406
CREATED:20250913T181045Z
LAST-MODIFIED:20250913T181048Z
UID:4798-1767898800-1767900600@rachelfranklin.com
SUMMARY:Rachel Franklin for the Baltimore Symphony Orchestra: Inside the Classics
DESCRIPTION:https://www.bsomusic.org/inside-the-classics/\n			\n				\n				\n				\n				\n				Dr. Rachel Franklin is delighted to be the Baltimore Symphony Orchestra’s Strathmore Music Scholar-in-Residence. She gives all the BSO’s pre-concert presentations at their Bethesda\, MD venue\, Strathmore Hall as part of their “Inside the Classics” series.
URL:https://rachelfranklin.com/event/rachel-franklin-for-the-baltimore-symphony-orchestra-inside-the-classics-22/
LOCATION:Music Center at Strathmore\, 5301 Tuckerman Ln\, North Bethesda\, MD\, 20852\, United States
ATTACH;FMTTYPE=image/jpeg:https://rachelfranklin.com/wp-content/uploads/2024/12/BaltimoreSymphonyOrchestra.jpg
END:VEVENT
BEGIN:VEVENT
DTSTART;TZID=America/New_York:20260112T120000
DTEND;TZID=America/New_York:20260112T133000
DTSTAMP:20260422T050406
CREATED:20251221T214809Z
LAST-MODIFIED:20251221T215232Z
UID:4985-1768219200-1768224600@rachelfranklin.com
SUMMARY:Smithsonian Associates: Women Who Shaped the Musical World\, Lecture 1 - Great Composers
DESCRIPTION:https://smithsonianassociates.org/ticketing/programs/women-who-shaped-musical-world\n			\n				\n				\n				\n				\n				Throughout the history of Western music\, men have claimed most of the spotlight and accolades as performers\, composers\, teachers\, impresarios\, patrons\, and instrument makers. Less attention has been paid to the scores of brilliant creative women who played these roles—along with many others—and who were relegated to the less brightly lit corners of the musical word. \nPopular speaker and concert pianist Rachel Franklin places them center stage as she examines their talent\, grit\, intellect\, and drive\, without which many of the most celebrated musical figures might have been significantly less successful\, and the musical repertoire far less rich. She brings these women and their often-untold stories to life\, showcasing them with live piano performances and historical and contemporary media clips. \nBritish-born Franklin has been a featured speaker for organizations including the Library of Congress and NPR\, exploring intersections among classical and jazz music\, film scores\, and the fine arts. \n——————————————————————————————————————————————— \nTwelfth-century abbess Hildegard of Bingen produced some 70 musical compositions while founding two monasteries and writing countless scientific and theological works. Fanny Mendelssohn’s lovely compositions were published under her brother Felix’s name to avoid social scandal. Clara Schumann combined maintaining an international performing and composing career with raising seven children and caring for her composer husband Robert\, who battled with depression. Franklin explores the great talents of these women\, as well as works by composers including Amy Beach\, Barbara Strozzi\, Margaret Bonds\, and Louise Farrenc.
URL:https://rachelfranklin.com/event/smithsonian-associates-women-who-shaped-the-musical-world-lecture-1-great-composers/
LOCATION:Isle of Man
ATTACH;FMTTYPE=image/jpeg:https://rachelfranklin.com/wp-content/uploads/2025/12/WomenMusicalWorld.jpg
END:VEVENT
BEGIN:VEVENT
DTSTART;TZID=America/New_York:20260125T140000
DTEND;TZID=America/New_York:20260125T143000
DTSTAMP:20260422T050406
CREATED:20250913T181204Z
LAST-MODIFIED:20250913T181207Z
UID:4800-1769349600-1769351400@rachelfranklin.com
SUMMARY:Rachel Franklin for the Baltimore Symphony Orchestra: Inside the Classics
DESCRIPTION:https://www.bsomusic.org/inside-the-classics/\n			\n				\n				\n				\n				\n				Dr. Rachel Franklin is delighted to be the Baltimore Symphony Orchestra’s Strathmore Music Scholar-in-Residence. She gives all the BSO’s pre-concert presentations at their Bethesda\, MD venue\, Strathmore Hall as part of their “Inside the Classics” series.
URL:https://rachelfranklin.com/event/rachel-franklin-for-the-baltimore-symphony-orchestra-inside-the-classics-23/
LOCATION:Music Center at Strathmore\, 5301 Tuckerman Ln\, North Bethesda\, MD\, 20852\, United States
ATTACH;FMTTYPE=image/jpeg:https://rachelfranklin.com/wp-content/uploads/2024/12/BaltimoreSymphonyOrchestra.jpg
END:VEVENT
BEGIN:VEVENT
DTSTART;TZID=America/New_York:20260126T120000
DTEND;TZID=America/New_York:20260126T133000
DTSTAMP:20260422T050406
CREATED:20251221T215629Z
LAST-MODIFIED:20251221T215634Z
UID:4992-1769428800-1769434200@rachelfranklin.com
SUMMARY:Smithsonian Associates: Women Who Shaped the Musical World\, Lecture 2 - Entrepreneurs\, Gurus\, Muses\, Nurturers
DESCRIPTION:https://smithsonianassociates.org/ticketing/programs/women-who-shaped-musical-world\n			\n				\n				\n				\n				\n				Throughout the history of Western music\, men have claimed most of the spotlight and accolades as performers\, composers\, teachers\, impresarios\, patrons\, and instrument makers. Less attention has been paid to the scores of brilliant creative women who played these roles—along with many others—and who were relegated to the less brightly lit corners of the musical word. \nPopular speaker and concert pianist Rachel Franklin places them center stage as she examines their talent\, grit\, intellect\, and drive\, without which many of the most celebrated musical figures might have been significantly less successful\, and the musical repertoire far less rich. She brings these women and their often-untold stories to life\, showcasing them with live piano performances and historical and contemporary media clips. \nBritish-born Franklin has been a featured speaker for organizations including the Library of Congress and NPR\, exploring intersections among classical and jazz music\, film scores\, and the fine arts. \n——————————————————————————————————————————————— \nWhen she wasn’t busy building superb instruments for her friend Beethoven\, piano maker Nannette Streicher helped him run his hopelessly disorganized household while barely keeping up with her own. George Sand juggled her successful writing career with supporting the endlessly complex needs of her lover Chopin and raising her two children. Cosima Wagner and Alma Mahler both defied social mores and scandalized their contemporaries with their affairs and marriages to powerful older composers\, becoming their muses and managers. The brilliant Boulanger sisters\, composer Lili and teacher Nadia\, influenced the path of modern composition\, with composers from across the Western world beating a path to Nadia’s door for her uniquely insightful guidance.
URL:https://rachelfranklin.com/event/smithsonian-associates-women-who-shaped-the-musical-world-lecture-2-entrepreneurs-gurus-muses-nurturers/
LOCATION:Isle of Man
ATTACH;FMTTYPE=image/jpeg:https://rachelfranklin.com/wp-content/uploads/2025/12/WomenMusicalWorld.jpg
END:VEVENT
BEGIN:VEVENT
DTSTART;TZID=America/New_York:20260131T190000
DTEND;TZID=America/New_York:20260131T193000
DTSTAMP:20260422T050406
CREATED:20250913T181341Z
LAST-MODIFIED:20250913T181345Z
UID:4802-1769886000-1769887800@rachelfranklin.com
SUMMARY:Rachel Franklin for the Baltimore Symphony Orchestra: Inside the Classics
DESCRIPTION:https://www.bsomusic.org/inside-the-classics/\n			\n				\n				\n				\n				\n				Dr. Rachel Franklin is delighted to be the Baltimore Symphony Orchestra’s Strathmore Music Scholar-in-Residence. She gives all the BSO’s pre-concert presentations at their Bethesda\, MD venue\, Strathmore Hall as part of their “Inside the Classics” series.
URL:https://rachelfranklin.com/event/rachel-franklin-for-the-baltimore-symphony-orchestra-inside-the-classics-24/
LOCATION:Music Center at Strathmore\, 5301 Tuckerman Ln\, North Bethesda\, MD\, 20852\, United States
ATTACH;FMTTYPE=image/jpeg:https://rachelfranklin.com/wp-content/uploads/2024/12/BaltimoreSymphonyOrchestra.jpg
END:VEVENT
END:VCALENDAR