BEGIN:VCALENDAR
VERSION:2.0
PRODID:-//Rachel Franklin - ECPv6.15.20//NONSGML v1.0//EN
CALSCALE:GREGORIAN
METHOD:PUBLISH
X-WR-CALNAME:Rachel Franklin
X-ORIGINAL-URL:https://rachelfranklin.com
X-WR-CALDESC:Events for Rachel Franklin
REFRESH-INTERVAL;VALUE=DURATION:PT1H
X-Robots-Tag:noindex
X-PUBLISHED-TTL:PT1H
BEGIN:VTIMEZONE
TZID:America/New_York
BEGIN:DAYLIGHT
TZOFFSETFROM:-0500
TZOFFSETTO:-0400
TZNAME:EDT
DTSTART:20250309T070000
END:DAYLIGHT
BEGIN:STANDARD
TZOFFSETFROM:-0400
TZOFFSETTO:-0500
TZNAME:EST
DTSTART:20251102T060000
END:STANDARD
BEGIN:DAYLIGHT
TZOFFSETFROM:-0500
TZOFFSETTO:-0400
TZNAME:EDT
DTSTART:20260308T070000
END:DAYLIGHT
BEGIN:STANDARD
TZOFFSETFROM:-0400
TZOFFSETTO:-0500
TZNAME:EST
DTSTART:20261101T060000
END:STANDARD
BEGIN:DAYLIGHT
TZOFFSETFROM:-0500
TZOFFSETTO:-0400
TZNAME:EDT
DTSTART:20270314T070000
END:DAYLIGHT
BEGIN:STANDARD
TZOFFSETFROM:-0400
TZOFFSETTO:-0500
TZNAME:EST
DTSTART:20271107T060000
END:STANDARD
END:VTIMEZONE
BEGIN:VEVENT
DTSTART;TZID=America/New_York:20260202T120000
DTEND;TZID=America/New_York:20260202T133000
DTSTAMP:20260420T050110
CREATED:20251221T215838Z
LAST-MODIFIED:20251221T215844Z
UID:4995-1770033600-1770039000@rachelfranklin.com
SUMMARY:Smithsonian Associates: Women Who Shaped the Musical World\, Lecture 3 - Superb Salonnières
DESCRIPTION:https://smithsonianassociates.org/ticketing/programs/women-who-shaped-musical-world\n			\n				\n				\n				\n				\n				Throughout the history of Western music\, men have claimed most of the spotlight and accolades as performers\, composers\, teachers\, impresarios\, patrons\, and instrument makers. Less attention has been paid to the scores of brilliant creative women who played these roles—along with many others—and who were relegated to the less brightly lit corners of the musical word. \nPopular speaker and concert pianist Rachel Franklin places them center stage as she examines their talent\, grit\, intellect\, and drive\, without which many of the most celebrated musical figures might have been significantly less successful\, and the musical repertoire far less rich. She brings these women and their often-untold stories to life\, showcasing them with live piano performances and historical and contemporary media clips. \nBritish-born Franklin has been a featured speaker for organizations including the Library of Congress and NPR\, exploring intersections among classical and jazz music\, film scores\, and the fine arts. \n——————————————————————————————————————————————— \nMendelssohn’s great aunt Sara Levy ran her weekly salon in Berlin to perform the works of J. S. Bach publicly\, commissioned new ones from his sons\, and built an incalculably valuable library of Bach family manuscripts. The Italian-born Princess Cristina Beljiojoso used her glamorous Parisian salon to raise money for her country’s political exiles by dreaming up extravagant musical events for adoring pianist friends\, who included Liszt and Chopin. The powerful connections\, commissions\, and sponsorships of avant-garde American heiress Winnaretta Singer\, aka Princesse Edmond de Polignac\, aided in the creation of major works by Fauré\, Stravinsky\, Poulenc\, and others. Franklin drops by the grand houses where great intellects and artists rubbed shoulders—and glorious music was heard.
URL:https://rachelfranklin.com/event/smithsonian-associates-women-who-shaped-the-musical-world-lecture-3-superb-salonnieres/
LOCATION:Isle of Man
ATTACH;FMTTYPE=image/jpeg:https://rachelfranklin.com/wp-content/uploads/2025/12/WomenMusicalWorld.jpg
END:VEVENT
BEGIN:VEVENT
DTSTART;TZID=America/New_York:20260205T190000
DTEND;TZID=America/New_York:20260205T193000
DTSTAMP:20260420T050110
CREATED:20250913T181437Z
LAST-MODIFIED:20250913T181441Z
UID:4804-1770318000-1770319800@rachelfranklin.com
SUMMARY:Rachel Franklin for the Baltimore Symphony Orchestra: Inside the Classics
DESCRIPTION:https://www.bsomusic.org/inside-the-classics/\n			\n				\n				\n				\n				\n				Dr. Rachel Franklin is delighted to be the Baltimore Symphony Orchestra’s Strathmore Music Scholar-in-Residence. She gives all the BSO’s pre-concert presentations at their Bethesda\, MD venue\, Strathmore Hall as part of their “Inside the Classics” series.
URL:https://rachelfranklin.com/event/rachel-franklin-for-the-baltimore-symphony-orchestra-inside-the-classics-25/
LOCATION:Music Center at Strathmore\, 5301 Tuckerman Ln\, North Bethesda\, MD\, 20852\, United States
ATTACH;FMTTYPE=image/jpeg:https://rachelfranklin.com/wp-content/uploads/2024/12/BaltimoreSymphonyOrchestra.jpg
END:VEVENT
BEGIN:VEVENT
DTSTART;TZID=America/New_York:20260209T120000
DTEND;TZID=America/New_York:20260209T133000
DTSTAMP:20260420T050110
CREATED:20251221T220038Z
LAST-MODIFIED:20251221T220044Z
UID:4999-1770638400-1770643800@rachelfranklin.com
SUMMARY:Smithsonian Associates: Women Who Shaped the Musical World\, Lecture 4 - Women of the Ballet Russe
DESCRIPTION:https://smithsonianassociates.org/ticketing/programs/women-who-shaped-musical-world\n			\n				\n				\n				\n				\n				Throughout the history of Western music\, men have claimed most of the spotlight and accolades as performers\, composers\, teachers\, impresarios\, patrons\, and instrument makers. Less attention has been paid to the scores of brilliant creative women who played these roles—along with many others—and who were relegated to the less brightly lit corners of the musical word. \nPopular speaker and concert pianist Rachel Franklin places them center stage as she examines their talent\, grit\, intellect\, and drive\, without which many of the most celebrated musical figures might have been significantly less successful\, and the musical repertoire far less rich. She brings these women and their often-untold stories to life\, showcasing them with live piano performances and historical and contemporary media clips. \nBritish-born Franklin has been a featured speaker for organizations including the Library of Congress and NPR\, exploring intersections among classical and jazz music\, film scores\, and the fine arts. \n——————————————————————————————————————————————— \nSerge Diaghilev’s Ballet Russe is venerated for its great male innovators such as Nijinsky\, Bakst\, and Stravinsky. But many of its most extraordinary artists and contributors were women. Nijinsky’s sister Bronislava Nijinska was one of ballet’s most distinguished creators\, both as a dancer and choreographer. The avant-garde artist Natalia Goncharova designed groundbreaking costumes and scenery for ballets such as the Firebird and the Golden Cockerel. And the brilliant\, charismatic heiress Ida Rubinstein braved incarceration in an asylum by her horrified family to become one of the most fearless modern dancers in Paris\, acting\, commissioning\, and eventually directing her own ballet company with Nijinsky as her choreographer.
URL:https://rachelfranklin.com/event/smithsonian-associates-women-who-shaped-the-musical-world-lecture-4-women-of-the-ballet-russe/
LOCATION:Isle of Man
ATTACH;FMTTYPE=image/jpeg:https://rachelfranklin.com/wp-content/uploads/2025/12/WomenMusicalWorld.jpg
END:VEVENT
BEGIN:VEVENT
DTSTART;TZID=America/New_York:20260214T193000
DTEND;TZID=America/New_York:20260214T203000
DTSTAMP:20260420T050110
CREATED:20250913T190851Z
LAST-MODIFIED:20250913T190855Z
UID:4843-1771097400-1771101000@rachelfranklin.com
SUMMARY:Rachel Franklin performing Beethoven's Piano Concerto No. 4 with the Washington Sinfonietta
DESCRIPTION:https://washingtonsinfonietta.org/concerts
URL:https://rachelfranklin.com/event/rachel-franklin-performing-beethovens-piano-concerto-no-4-with-the-washington-sinfonietta/
LOCATION:The Washington Sinfonietta\, PO Box 6740\, Falls Church\, VA\, 22046\, United States
ATTACH;FMTTYPE=image/jpeg:https://rachelfranklin.com/wp-content/uploads/2025/01/Beethoven.jpg
ORGANIZER;CN="The Washington Sinfonietta":MAILTO:washington.sinfonietta.ws@gmail.com
END:VEVENT
BEGIN:VEVENT
DTSTART;TZID=America/New_York:20260228T190000
DTEND;TZID=America/New_York:20260228T193000
DTSTAMP:20260420T050110
CREATED:20250913T181522Z
LAST-MODIFIED:20250913T181526Z
UID:4806-1772305200-1772307000@rachelfranklin.com
SUMMARY:Rachel Franklin for the Baltimore Symphony Orchestra: Inside the Classics
DESCRIPTION:https://www.bsomusic.org/inside-the-classics/\n			\n				\n				\n				\n				\n				Dr. Rachel Franklin is delighted to be the Baltimore Symphony Orchestra’s Strathmore Music Scholar-in-Residence. She gives all the BSO’s pre-concert presentations at their Bethesda\, MD venue\, Strathmore Hall as part of their “Inside the Classics” series.
URL:https://rachelfranklin.com/event/rachel-franklin-for-the-baltimore-symphony-orchestra-inside-the-classics-26/
LOCATION:Music Center at Strathmore\, 5301 Tuckerman Ln\, North Bethesda\, MD\, 20852\, United States
ATTACH;FMTTYPE=image/jpeg:https://rachelfranklin.com/wp-content/uploads/2024/12/BaltimoreSymphonyOrchestra.jpg
END:VEVENT
END:VCALENDAR